BEGIN:VCALENDAR
VERSION:2.0
PRODID:-//Western Canada Viper Club - ECPv4.5.8.1//NONSGML v1.0//EN
CALSCALE:GREGORIAN
METHOD:PUBLISH
X-WR-CALNAME:Western Canada Viper Club
X-ORIGINAL-URL:https://westerncanadaviperclub.com
X-WR-CALDESC:Events for Western Canada Viper Club
BEGIN:VEVENT
DTSTART;VALUE=DATE:20250809
DTEND;VALUE=DATE:20250809
DTSTAMP:20260420T084219
CREATED:20250611T152323Z
LAST-MODIFIED:20250714T135733Z
UID:1393-1754697600-1754783999@westerncanadaviperclub.com
SUMMARY:Hot Nite in the City (Kamloops B.C)
DESCRIPTION:Hot Nite in the City car show in Kamloops BC!  Plan to arrive in Kamloops on August 8th for some local cruising\, then first thing Saturday morning is the big car show  \nPlease go to https://www.hotniteinthecity.com/ to register (can register on the day at the show too) and for more information \n
URL:https://westerncanadaviperclub.com/event/august-2025-hot-nite-in-the-city-kamloops-b-c-details-to-come/
END:VEVENT
END:VCALENDAR